BEGIN:VCALENDAR
VERSION:2.0
PRODID:-//ITPT - ECPv6.8.3//NONSGML v1.0//EN
CALSCALE:GREGORIAN
METHOD:PUBLISH
X-ORIGINAL-URL:https://compassionate-sinoussi.185-249-75-142.plesk.page
X-WR-CALDESC:Events for ITPT
REFRESH-INTERVAL;VALUE=DURATION:PT1H
X-Robots-Tag:noindex
X-PUBLISHED-TTL:PT1H
BEGIN:VTIMEZONE
TZID:Europe/London
BEGIN:DAYLIGHT
TZOFFSETFROM:+0000
TZOFFSETTO:+0100
TZNAME:BST
DTSTART:20260329T010000
END:DAYLIGHT
BEGIN:STANDARD
TZOFFSETFROM:+0100
TZOFFSETTO:+0000
TZNAME:GMT
DTSTART:20261025T010000
END:STANDARD
END:VTIMEZONE
BEGIN:VEVENT
DTSTART;VALUE=DATE:20260430
DTEND;VALUE=DATE:20260501
DTSTAMP:20260423T135638
CREATED:20250915T065630Z
LAST-MODIFIED:20260402T102051Z
UID:10405-1777507200-1777593599@compassionate-sinoussi.185-249-75-142.plesk.page
SUMMARY:UPCOMING HNC’s & HND’s QUALIFICATIONS – e-learnings (online distance learning only)
DESCRIPTION:UPCOMING HNC’s & HND’s QUALIFICATIONS – e-learnings (online distance learning only)  \n(Please provide the course title so we can respond to your inquiry with precision)  \n\n\n\nHNC Computing\nhttps://compassionate-sinoussi.185-249-75-142.plesk.page/courses/sqa-hnccomputing/\n\n\nHNC Admin & IT\nhttps://compassionate-sinoussi.185-249-75-142.plesk.page/courses/hnc-administration-information-technology/\n\n\nHNC Cyber Security\nhttps://compassionate-sinoussi.185-249-75-142.plesk.page/courses/hnc-cyber-security/\n\n\nHNC Digital Design & Web Development\nhttps://compassionate-sinoussi.185-249-75-142.plesk.page/courses/hnc-digital-design-web-development/\n\n\nHND Computing: Computer Science\nhttps://compassionate-sinoussi.185-249-75-142.plesk.page/courses/hnd-computing-computer-science/\n\n\nHND Computing: Software Development\nhttps://compassionate-sinoussi.185-249-75-142.plesk.page/courses/hnd-computing-software-development/\n\n\nHND Computing: Technical Support\nhttps://compassionate-sinoussi.185-249-75-142.plesk.page/courses/hnd-computing-technical-support-with-cyber-security/\n\n\nHND Computing: Networking\nhttps://compassionate-sinoussi.185-249-75-142.plesk.page/courses/hnd-computing-networking/\n\n\nHND Cyber Security\nhttps://compassionate-sinoussi.185-249-75-142.plesk.page/courses/hnd-cyber-security/\n\n\nHND Web Development\nhttps://compassionate-sinoussi.185-249-75-142.plesk.page/courses/hnd-web-development/\n\n\n\n\n 
URL:https://compassionate-sinoussi.185-249-75-142.plesk.page/event/upcoming-hncs-hnds-qualifications-e-learnings-online-distance-learning-only-2/
END:VEVENT
BEGIN:VEVENT
DTSTART;VALUE=DATE:20260430
DTEND;VALUE=DATE:20260501
DTSTAMP:20260423T135638
CREATED:20250915T071342Z
LAST-MODIFIED:20260402T101637Z
UID:10407-1777507200-1777593599@compassionate-sinoussi.185-249-75-142.plesk.page
SUMMARY:VENDOR'S NON-VENDORS ELEARNING COURSE - SAAS PTFG Funded (Please include the course code in your inquiry)
DESCRIPTION:UPCOMING ELEARNING CISCO COURSES\n\n\nCourse Code\nCourse Name\n\n\n300001\nIT Essential \nhttps://compassionate-sinoussi.185-249-75-142.plesk.page/courses/cisco-it-essential/\n\n\n300002\nCyber Security Essential \nhttps://compassionate-sinoussi.185-249-75-142.plesk.page/courses/cyber-security-essential/\n\n\n300003\nCCNA \nhttps://compassionate-sinoussi.185-249-75-142.plesk.page/courses/cisco-ccna/\n\n\n300004\nCyberOps Associate \nhttps://compassionate-sinoussi.185-249-75-142.plesk.page/event/cisco-certified-cyber-ops-cyber-security-elearning-self-paced-online-course-2/\n\n\n300005\nCCNP-Encore-350-401-implementing-and-operating-cisco-enterprise-network-core-technologies\nhttps://compassionate-sinoussi.185-249-75-142.plesk.page/courses/the-implementing-and-operating-cisco-enterprise-network-core-technologies-encor/\n\n\n300006\nCCNP SCOR – 350-701 (Implementing & Operating Cisco Security Core Technologies)\nhttps://compassionate-sinoussi.185-249-75-142.plesk.page/courses/ccnp-security-implementing-operating-cisco-security-core-technologies-scor-350-701/\n\n\n\n  \n\n\n\nUPCOMING ELEARNING COMPTIA COURSES \n\n\nCourse Code\nCourse Name\n\n\n300007\nCompTIA A + \nhttps://compassionate-sinoussi.185-249-75-142.plesk.page/courses/comptiaaplus/\n\n\n300008\nCompTIA Security + \nhttps://compassionate-sinoussi.185-249-75-142.plesk.page/courses/comptia-security/\n\n\n300009\nCompTIA Network + \nhttps://compassionate-sinoussi.185-249-75-142.plesk.page/courses/comptia-network/\n\n\n300010\nCompTIA Server + \nhttps://compassionate-sinoussi.185-249-75-142.plesk.page/courses/comptia-server/\n\n\n300011\nCompTIA PenTest + \nhttps://compassionate-sinoussi.185-249-75-142.plesk.page/courses/comptia-pentest/\n\n\n300012\nCompTIA CYSA + \nhttps://compassionate-sinoussi.185-249-75-142.plesk.page/courses/comptia-cybersecurity-analyst-cysa/\n\n\n\n  \n\n\n\nUPCOMING ELEARNING EC COUNCIL COURSES\n\n\nCourse Code\nCourse Name\n\n\n300015\nCertified Ethical Hacker (CEH) \nhttps://compassionate-sinoussi.185-249-75-142.plesk.page/courses/certified-ethical-hacker-ceh/\n\n\n\n  \n\n\n\nUPCOMING ELEARNING ISC2 COURSES\n\n\nCourse Code\nCourse Name\n\n\n300016\nCertified in Cybersecurity \nhttps://compassionate-sinoussi.185-249-75-142.plesk.page/courses/cybersecurity-certification/\n\n\n300017\nCertified Cloud Security Professional (CCSP) \nhttps://compassionate-sinoussi.185-249-75-142.plesk.page/courses/certified-cloud-security-professional-ccsp-elearning-program/\n\n\n\nSystems Security Certified Practitioner (SSCP) \nhttps://compassionate-sinoussi.185-249-75-142.plesk.page/courses/systems-security-certified-practitioner-sscp-elearning-program/\n\n\n\nCertified Information Systems Security Professional (CISSP) \nhttps://compassionate-sinoussi.185-249-75-142.plesk.page/courses/certified-information-systems-security-professional-cissp-elearning-program/\n\n\n\n  \n\n\n\nUPCOMING ELEARNING IT SERVICE MANAGEMENT COURSES\n\n\nCourse Code\nCourse Name\n\n\n300018\nITIL Foundation \nhttps://compassionate-sinoussi.185-249-75-142.plesk.page/courses/itil-foundation/\n\n\n\n  \n\n\n\nUPCOMING ELEARNING COURSES – CIW\n\n\nCourse Code\nCourse Name\n\n\n300019\nCIW: Site Development \nhttps://compassionate-sinoussi.185-249-75-142.plesk.page/courses/ciw-site-development-associate/\n\n\n300020\nCIW: Advanced HTML 5 & CSS3 Specialist \nhttps://compassionate-sinoussi.185-249-75-142.plesk.page/courses/advanced-html5-css3-javascript/\n\n\n\n  \n\n\n\nUPCOMING ELEARNING SOFTWARE DEVELOPMENT COURSES\n\n\nCourse Code\nCourse Name\n\n\n300021\nC# (Sharp) Programming \nhttps://compassionate-sinoussi.185-249-75-142.plesk.page/courses/c-sharp/\n\n\n300022\nPython Programming \nhttps://compassionate-sinoussi.185-249-75-142.plesk.page/courses/python-programming-associate-course/\n\n\n300023\nJAVA Level 1 Associate \nhttps://compassionate-sinoussi.185-249-75-142.plesk.page/courses/java-se-8-associate/\n\n\n300024\nJAVA Level 2 Professional \nhttps://compassionate-sinoussi.185-249-75-142.plesk.page/courses/java-se8-professional/\n\n\n\n  \n\n\n\nUPCOMING ELEARNING WEB DEVELOPMENT COURSES\n\n\n\nCourse Code\nCourse Name\n\n\n\n300025\nCMS: WordPress \nhttps://compassionate-sinoussi.185-249-75-142.plesk.page/courses/wordpress-course/\n\n\n\n300026\nAdobe Dreamweaver CC \nhttps://compassionate-sinoussi.185-249-75-142.plesk.page/courses/adobe-dreamweaver-cc/\n\n\n\n300027\nFull Stack Developer \nhttps://compassionate-sinoussi.185-249-75-142.plesk.page/courses/web-application-development-full-stack-developer/\n\n\n\n  \n\n\n\nUPCOMING ELEARNING DATA SCIENCE COURSES\n\n\nCourse Code\nCourse Name\n\n\n300028\nData Analytics \nhttps://compassionate-sinoussi.185-249-75-142.plesk.page/courses/data-analytics/\n\n\n300029\nData Science Machine Learning with Python Programming\nhttps://compassionate-sinoussi.185-249-75-142.plesk.page/courses/data-science-machine-learning-with-python-programming/\n\n\n300030\nData Analysis (SQL with R Programming) \nhttps://compassionate-sinoussi.185-249-75-142.plesk.page/courses/data-science-sql-with-r-programming/
URL:https://compassionate-sinoussi.185-249-75-142.plesk.page/event/vendors-non-vendors-elearning-course-saas-ptfg-funded-please-include-the-course-code-in-your-inquiry-3/
END:VEVENT
END:VCALENDAR