BEGIN:VCALENDAR
VERSION:2.0
PRODID:-//ITPT - ECPv6.8.3//NONSGML v1.0//EN
CALSCALE:GREGORIAN
METHOD:PUBLISH
X-WR-CALNAME:ITPT
X-ORIGINAL-URL:https://compassionate-sinoussi.185-249-75-142.plesk.page
X-WR-CALDESC:Events for ITPT
REFRESH-INTERVAL;VALUE=DURATION:PT1H
X-Robots-Tag:noindex
X-PUBLISHED-TTL:PT1H
BEGIN:VTIMEZONE
TZID:Europe/London
BEGIN:DAYLIGHT
TZOFFSETFROM:+0000
TZOFFSETTO:+0100
TZNAME:BST
DTSTART:20260329T010000
END:DAYLIGHT
BEGIN:STANDARD
TZOFFSETFROM:+0100
TZOFFSETTO:+0000
TZNAME:GMT
DTSTART:20261025T010000
END:STANDARD
END:VTIMEZONE
BEGIN:VEVENT
DTSTART;VALUE=DATE:20260825
DTEND;VALUE=DATE:20260826
DTSTAMP:20260423T233103
CREATED:20250206T053342Z
LAST-MODIFIED:20260109T180848Z
UID:9986-1787616000-1787702399@compassionate-sinoussi.185-249-75-142.plesk.page
SUMMARY:HND Networking - Full Time Course
DESCRIPTION:Awarding Body: SQA (Scottish Qualification Authority) \nCourse Title: HND Networking\nGroup Award Code: GG7C 16\nModes of Study: Full time Learning\nProgression to: Progression to 2nd or 3rd year of the undergrade courses at many universities in the region. \nCourse Introduction: \nAll HND Computing students must first complete a common first year (HNC Computing: Progression to HND in Computer Science). In their second year\, they can choose to specialize in either HND Computer Science. This structure ensures they gain a strong foundation in both fields\, allowing them to make informed decisions before specialising. \nThe HND Networking will provide you advanced knowledge for a successful career in networking technology. The course provides a comprehensive range of knowledge and practical skills in configuring\, designing\, building and maintaining computer network infrastructures. \nStudents will study a selection of appropriate units designed to develop student’s skills and competencies to enable further study in a Degree Programme. \nTopics may include: \n\nServer Administration\nNetworking Technology\nSwitching Technology\nRouting Technology\nInternetworking Technology\nEthical Hacking\nIntrusion Prevention Systems\nManaging a Web Server\nPrivate Cloud Virtualisation\n\nEntry Requirements: \nMinimum Entry Requirements:  \n\nMust possessed HNC in Computing or relevant\nOther equivalent qualifications will also be considered\n\nVendors Specific Progression: \nThis course integrates learning materials from industry standard vendors such as Microsoft\, CIW\, Oracle and CompTIA which can help to prepare students for a variety of vendor certification exams. \nOn completion of this certificate or during the course\, units relevant to any particular vendor’s certification students can appear to equip themselves with the global recognised and contemporary employers demand qualification from any of the following: \n\nCisco CCNA\nEC Council Ethical Hacking\nCompTIA Server +\n\nVendor qualifications are certificated in addition to the HND award and significantly enhance candidates’ employability. \nPlease visit our website for more information on the course content and prerequisites to join the course:\nhttps://compassionate-sinoussi.185-249-75-142.plesk.page/courses/hnd-computing-networking/ \nFunding information: \nFor Full Time Courses: \nhttps://www.saas.gov.uk/full-time \nEligible students can apply for tuition fee assistance\, bursaries\, and student loans \nSelf- funded: \nThis Course can be self-funded\, for fee please contact us at info@compassionate-sinoussi.185-249-75-142.plesk.page \nContact us: \nTo contact us via our website\, please follow the below link; \nhttps://compassionate-sinoussi.185-249-75-142.plesk.page/contact-us/ \nIf you require further information please contact us at: \nEmail Address for General Enquiries: info@compassionate-sinoussi.185-249-75-142.plesk.page\nFor HNC/HND Admission Enquiries: admissions@compassionate-sinoussi.185-249-75-142.plesk.page\nTelephone Numbers: 0131 552 5558|0131 552 5800\nWebsite Address:  https://compassionate-sinoussi.185-249-75-142.plesk.page/ \nFor more information \nWhatsApp: 07910074185 (For Edinburgh Centre only)\nSMS Text Messages: 07910074185 (For Edinburgh Centre only)\nFacebook Address: https://www.facebook.com/ITProfessionalTrainingEdinburgh/
URL:https://compassionate-sinoussi.185-249-75-142.plesk.page/event/hnd-networking-full-time-course/
LOCATION:21 Calder Road\, Edinburgh\, E11 3PF
END:VEVENT
BEGIN:VEVENT
DTSTART;VALUE=DATE:20260825
DTEND;VALUE=DATE:20260826
DTSTAMP:20260423T233103
CREATED:20250206T053745Z
LAST-MODIFIED:20260109T181248Z
UID:9988-1787616000-1787702399@compassionate-sinoussi.185-249-75-142.plesk.page
SUMMARY:HND Technical Support - Full Time Course
DESCRIPTION:Awarding Body: SQA (Scottish Qualification Authority) \nCourse Title: HND Technical Support\nGroup Award Code: GM9D 16\nModes of Study: Full time Learning\nProgression to: Progression to 2nd or 3rd year of the undergrade courses at many universities in the region. \nCourse Introduction: \nThe Higher National Diploma (HND) in Technical Support is a specialised qualification designed to equip students with the knowledge and skills required for IT support roles in various industries. This program covers key areas such as network administration\, troubleshooting\, cybersecurity\, hardware and software management\, and customer support. It prepares graduates for careers as IT technicians\, support analysts\, and network administrators\, ensuring they can effectively diagnose and resolve technical issues in a professional environment. The HND in Technical Support provides a strong foundation for further studies or direct entry into the workforce. \nStudents will study a selection of appropriate units designed to develop student’s skills and competencies to enable further study in a Degree Programme. \nTopics may include: \n\nNetwork Server Operating Systems\nNetwork Technology and Data Communications\nRouting Technology\nProviding Technical Support to Users\nOpen Source Operating Systems:\nLinux Administration\nServer Administration\nManaging Mail Server Management\nPrivate Cloud Virtualisation\nDigital Forensics\nData Security\n\nEntry Requirements: \nMinimum Entry Requirements:  \n\nMust possessed HNC in Computing or relevant\nOther equivalent qualifications will also be considered\n\nVendors Specific Progression: \nThis course integrates learning materials from industry standard vendors such as Microsoft\, CIW\, Oracle and CompTIA which can help to prepare students for a variety of vendor certification exams. \nOn completion of this certificate or during the course\, units relevant to any particular vendor’s certification students can appear to equip themselves with the global recognised and contemporary employers demand qualification from any of the following: \n\nCisco CCNA\, CCST\nEC Council Ethical Hacking\nCCISO\nLinux Essentials\n\nVendor qualifications are certificated in addition to the HND award and significantly enhance candidates’ employability. \nPlease visit our website for more information on the course content and prerequisites to join the course: \nHND Computing: Networking \n \nFunding information: \nFor Full Time Courses: \nhttps://www.saas.gov.uk/full-time \nEligible students can apply for tuition fee assistance\, bursaries\, and student loans \nSelf- funded: \nThis Course can be self-funded\, for fee please contact us at info@compassionate-sinoussi.185-249-75-142.plesk.page \nContact us: \nTo contact us via our website\, please follow the below link; \nhttps://compassionate-sinoussi.185-249-75-142.plesk.page/contact-us/ \nIf you require further information please contact us at: \nEmail Address for General Enquiries: info@compassionate-sinoussi.185-249-75-142.plesk.page\nFor HNC/HND Admission Enquiries: admissions@compassionate-sinoussi.185-249-75-142.plesk.page\nTelephone Numbers: 0131 552 5558|0131 552 5800\nWebsite Address:  https://compassionate-sinoussi.185-249-75-142.plesk.page/ \nFor more information \nWhatsApp: 07910074185 (For Edinburgh Centre only)\nSMS Text Messages: 07910074185 (For Edinburgh Centre only)\nFacebook Address: https://www.facebook.com/ITProfessionalTrainingEdinburgh/
URL:https://compassionate-sinoussi.185-249-75-142.plesk.page/event/hnd-technical-support-full-time-course/
LOCATION:21 Calder Road\, Edinburgh\, E11 3PF
END:VEVENT
BEGIN:VEVENT
DTSTART;VALUE=DATE:20260825
DTEND;VALUE=DATE:20260826
DTSTAMP:20260423T233103
CREATED:20250206T053947Z
LAST-MODIFIED:20260109T181354Z
UID:9990-1787616000-1787702399@compassionate-sinoussi.185-249-75-142.plesk.page
SUMMARY:HND Web Development - Full Time Course
DESCRIPTION:Awarding Body: SQA (Scottish Qualification Authority) \nCourse Title: HND Web Development\nGroup Award Code: GL81 16\nModes of Study: Full time Learning\nProgression to: Progression to 2nd or 3rd year of the undergrade courses at many universities in the region. \nCourse Introduction: \nThis course HND in Web Development is designed to develop experience and skills in creative interactive media with an emphasis on web design and development. Students will aim to produce a portfolio of work to represent their design and development skills. Students will learn to build dynamic websites that deliver content in a variety of formats for computers\, smartphones and tablets. You will have access to current smartphones and tablets for testing your mobile websites. \nThe course HND in Digital Content introduces you to both client and server side technologies with opportunities to prepare and develop web interfaces and multimedia rich content incorporating Photoshop and Illustrator and a range of other Adobe products. The faculty has access to the full Adobe suite which can be utilised to produce creative and engaging media content for inclusion within your websites. \nStudents will study a selection of appropriate units designed to develop student’s skills and competencies to enable further study in a Degree Programme. \nTopics may include: \n\nHuman Computer Interface\nDesigning & Developing Interactive Products\nWeb Development: Dynamically Generated Content\nWeb Technologies 2: HTML\, CSS and JavaScript\nWeb Development: Tools and Techniques\ne-commerce solutions\nClient-side Scripting for Web Applications\nOOPs\n\nEntry Requirements: \nMinimum Entry Requirements:  \n\nMust possessed HNC in Computing or relevant\nOther equivalent qualifications will also be considered\n\nVendors Specific Progression: \nThis course integrates learning materials from industry standard vendors such as Microsoft\, CIW\, Oracle and CompTIA which can help to prepare students for a variety of vendor certification exams. \nOn completion of this certificate or during the course\, units relevant to any particular vendor’s certification students can appear to equip themselves with the global recognised and contemporary employers demand qualification from any of the following: \n\nOracle\nCIW\nMicrosoft\n\nVendor qualifications are certificated in addition to the HND award and significantly enhance candidates’ employability. \nPlease visit our website for more information on the course content and prerequisites to join the course:\nhttps://compassionate-sinoussi.185-249-75-142.plesk.page/courses/hnd-web-development/ \nFunding information: \nFor Full Time Courses: \nhttps://www.saas.gov.uk/full-time \nEligible students can apply for tuition fee assistance\, bursaries\, and student loans \nSelf- funded: \nThis Course can be self-funded\, for fee please contact us at info@compassionate-sinoussi.185-249-75-142.plesk.page \nContact us: \nTo contact us via our website\, please follow the below link; \nhttps://compassionate-sinoussi.185-249-75-142.plesk.page/contact-us/ \nIf you require further information please contact us at: \nEmail Address for General Enquiries: info@compassionate-sinoussi.185-249-75-142.plesk.page\nFor HNC/HND Admission Enquiries: admissions@compassionate-sinoussi.185-249-75-142.plesk.page\nTelephone Numbers: 0131 552 5558|0131 552 5800\nWebsite Address:  https://compassionate-sinoussi.185-249-75-142.plesk.page/ \nFor more information \nWhatsApp: 07910074185 (For Edinburgh Centre only)\nSMS Text Messages: 07910074185 (For Edinburgh Centre only)\nFacebook Address: https://www.facebook.com/ITProfessionalTrainingEdinburgh/
URL:https://compassionate-sinoussi.185-249-75-142.plesk.page/event/hnd-web-development-full-time-course/
LOCATION:21 Calder Road\, Edinburgh\, E11 3PF
END:VEVENT
END:VCALENDAR