BEGIN:VCALENDAR
VERSION:2.0
PRODID:-//ITPT - ECPv6.8.3//NONSGML v1.0//EN
CALSCALE:GREGORIAN
METHOD:PUBLISH
X-ORIGINAL-URL:https://compassionate-sinoussi.185-249-75-142.plesk.page
X-WR-CALDESC:Events for ITPT
REFRESH-INTERVAL;VALUE=DURATION:PT1H
X-Robots-Tag:noindex
X-PUBLISHED-TTL:PT1H
BEGIN:VTIMEZONE
TZID:Europe/London
BEGIN:DAYLIGHT
TZOFFSETFROM:+0000
TZOFFSETTO:+0100
TZNAME:BST
DTSTART:20260329T010000
END:DAYLIGHT
BEGIN:STANDARD
TZOFFSETFROM:+0100
TZOFFSETTO:+0000
TZNAME:GMT
DTSTART:20261025T010000
END:STANDARD
END:VTIMEZONE
BEGIN:VEVENT
DTSTART;TZID=Europe/London:20260704T151000
DTEND;TZID=Europe/London:20260704T161000
DTSTAMP:20260423T184153
CREATED:20260407T123407Z
LAST-MODIFIED:20260416T102915Z
UID:10757-1783177800-1783181400@compassionate-sinoussi.185-249-75-142.plesk.page
SUMMARY:NAT 5 Admin & IT Tuition Programmes @ Edinburgh
DESCRIPTION:NAT 5 Admin & IT Tuition: \nITPT are excited to announced our new timetable for National 5 Admin and IT Tuition at our Edinburgh centre and also via our virtual learning platform \nWe offer high-quality\, tutor-led Admin and IT tuition designed to support students studying Qualifications Scotland National 5 Admin and IT. Our programmes are carefully structured to provide focused and effective learning within a supportive environment\, delivered either in person or online to suit individual learner needs. \nhttps://compassionate-sinoussi.185-249-75-142.plesk.page/courses/admin-and-it/ \nUpcoming Time Table: \nOption 1: \n\n\n\n\nOne to Five* (Weekly Class – Face to Face)\n\n\nStarting Date\nDay\nTime\nDuration\nSubject\nClass Level\nFees\n\n\n04 Jul 2026\nSaturday\n03:30 to 04:10\n40 Minutes Session\nAdmin & IT\nNAT 5\n£100 (Monthly)\n\n\n* Not more than 5 students per class\n\n\n\n\nOption 2: \n\n\n\n\nOne to Three – (Weekly Remote/Online Class)\n\n\nStarting From\nDay & Time\nDuration\nSubject\nClass Level\nFees\n\n\nNo Specific Dates\, can be started at anytime\nPlease contact us either via email for the slot’s availability.\n1 Hour  Session\nAdmin & IT\nNAT 5\n£150 (Monthly)\n\n\n\n\nTest your knowledge: \nWe will evaluate students existing knowledge with the help of an aptitude test to find out your current status of learning progression. \nWho is this course for? \nThis course is designed for learners who are considering to appear for the NAT 5 Admin and IT Qualifications Scotland exam. \nWhat topics will be covered? \nThe course has two major areas of study which are covered in depth\, these are as follows: \n\nTheory: Candidates will be introduced to the responsibilities of organisations\, as well as the skills\, qualities\, and tasks associated with the administrative support function\, and the impact of these elements in the workplace.\n\n\nAdministration theory in the workplace\n\n  \n\nIT Applications: Candidates will develop skills in information technology\, problem-solving\, organisation\, and information management. They will select appropriate IT applications to create and edit business documents\, gather and disseminate information\, and enhance their ability to communicate effectively.\n\n\nWord-processing and/or desktop publishing\nSpreadsheets\nDatabases\nPresentations\nElectronic communication\n\nNAT 5 Qualifications Scotland latest Syllabus will be followed throughout the session. \nRecommended Exams: \nNAT 5 Admin and IT Qualifications Scotland exam. \nHow We Teach \nOur fully qualified Qualifications Scotland Assessors and Tutors provide high-quality lessons tailored to the set content for each session\, helping every student achieve their full potential. We follow the latest Qualifications Scotland guidelines and update our lessons as needed. \nWe use both Qualifications Scotland past papers and our own exam papers. Practicing with these past papers helps you identify the topics you’re strong in and those you need to work on. This way\, you can track your revision progress and gain confidence in what you know. \nHere’s what we focus on: \n\nTeaching and thoroughly revising the key areas of Qualifications Scotland National 5 in Admin and IT.\nWorking through exam-standard questions.\nReviewing and understanding Qualifications Scotland marking guidelines.\nBuilding exam techniques\, consolidating knowledge\, and enhancing problem-solving skills.\nOngoing tutor support online through Microsoft Teams\, where students can ask questions\, get help\, and download learning materials. These materials are also available digitally via ITPT Moodle.\n\nOur Edinburgh centre is at the following location:  \nIT Professional Training (ITPT)\n21 Calder Road\nEdinburgh\,\nEH11 3PF \nEnrolment Process:\nif you wish to join\, we can send you the admission form and further information via email. You can request this by emailing info@compassionate-sinoussi.185-249-75-142.plesk.page. \nThe student that wishes to enrol on one of these tuitions may also have to complete the Nat 5 Aptitude Form. We can send you further information via email. \nContact Us: \nFor more information please do contact us; \nEdinburgh Phone: 0131 552 5558\nGlasgow Phone: 07466166583\nEmail: info@compassionate-sinoussi.185-249-75-142.plesk.page\nWebsite:  https://compassionate-sinoussi.185-249-75-142.plesk.page/ \nContact us via website:  https://compassionate-sinoussi.185-249-75-142.plesk.page/contact-us/ \nTo Book an Appointment with Course Advisors: \nTo Book course registration or for further information about the course or its funding\, please follow the below link;\nhttps://tinyurl.com/ITPT-Appointment
URL:https://compassionate-sinoussi.185-249-75-142.plesk.page/event/nat-5-admin-it-tuition-programmes-sqa-edinburgh/
END:VEVENT
BEGIN:VEVENT
DTSTART;TZID=Europe/London:20260704T162000
DTEND;TZID=Europe/London:20260704T170000
DTSTAMP:20260423T184153
CREATED:20260407T123836Z
LAST-MODIFIED:20260416T103111Z
UID:10759-1783182000-1783184400@compassionate-sinoussi.185-249-75-142.plesk.page
SUMMARY:Higher Admin & IT Tuition Programmes @ Edinburgh
DESCRIPTION:Higher Admin & IT Tuition: \nITPT are excited to announced our new timetable for Higher Admin and IT Tuition at our Edinburgh centre and also via our virtual learning platform \nWe offer high-quality\, tutor-led Admin and IT tuition designed to support students studying Qualifications Scotland Higher Admin and IT. Our programmes are carefully structured to provide focused and effective learning within a supportive environment\, delivered either in person or online to suit individual learner needs. \nhttps://compassionate-sinoussi.185-249-75-142.plesk.page/courses/highers-admin-and-it/ \nUpcoming Time Table: \nOption 1: \n\n\n\n\nOne to Five* (Weekly Class – Face to Face)\n\n\nStarting Date\nDay\nTime\nDuration\nSubject\nClass Level\nFees\n\n\n04 Jul 2026\nSaturday\n04:20 to 05:00\n40 Minutes Session\nAdmin & IT\nHighers\n£100 (Monthly)\n\n\n* Not more than 5 students per class\n\n\n\n\nOption 2: \n\n\n\n\nOne to Three – (Weekly Remote/Online Class)\n\n\nStarting From\nDay & Time\nDuration\nSubject\nClass Level\nFees\n\n\nNo Specific Dates\, can be started at anytime\nPlease contact us either via email for the slot’s availability.\n1 Hour  Session\nAdmin & IT\nHighers\n£150 (Monthly)\n\n\n\n\nTest your knowledge: \nWe will evaluate students existing knowledge with the help of an aptitude test to find out your current status of learning progression. \nWho is this course for? \nThis course is designed for learners who are considering to appear for the Highers Admin and IT Qualifications Scotland exam. \nWhat topics will be covered? \nThe course has two major areas of study which are covered in depth\, these are as follows: \n\nAdministrative Theory & Practice:\n\nCandidates enhance their understanding of the factors that contribute to an efficient administrative function\, which include time and task management\, effective teamwork\, compliance with workplace legislation\, the influence of digital technologies\, and customer care. \n\nRole of Administrative Assistant\nStrategies for effective time and task management\, and their importance\nCharacteristics and the importance of effective teams\nKnowledge of workplace legislation and strategies for ensuring compliance\nImpact of digital technology on the layout\, working practices\, communication methods\, data handling and file management of an organisation\nFeatures of good customer care\, mechanisms for monitoring and evaluating the quality of customer care\, benefits of good and consequences of poor customer care\nProcedures for organising and supporting a range of meetings and events\nAppropriate methods of communication and research\n\n  \n\nIT Applications:\n\nCandidates cultivate skills in organising and managing information through digital technology within administrative contexts. They utilise software application functions to analyse\, process\, and manage information\, enabling them to create and edit complex business documents. Additionally\, candidates gain an understanding of communication barriers and strategies to overcome them\, ensuring effective communication. They also develop the skills\, knowledge\, and understanding necessary to maintain the security and confidentiality of information. \n\nWord processing\nSpreadsheets\nRelational databases\nPresentations\nCommunication\n\nHighers Qualifications Scotland latest Syllabus will be followed throughout the session. \nRecommended Exams: \nHighers Admin and IT Qualifications Scotland exam \nHow We Teach \nOur fully qualified Qualifications Scotland Assessors and Tutors provide high-quality lessons tailored to the set content for each session\, helping every student achieve their full potential. We follow the latest Qualifications Scotland guidelines and update our lessons as needed. \nWe use both Qualifications Scotland past papers and our own exam papers. Practicing with these past papers helps you identify the topics you’re strong in and those you need to work on. This way\, you can track your revision progress and gain confidence in what you know. \nHere’s what we focus on: \n\nTeaching and thoroughly revising the key areas of Qualifications Scotland Highers in Admin and IT.\nWorking through exam-standard questions.\nReviewing and understanding Qualifications Scotland marking guidelines.\nBuilding exam techniques\, consolidating knowledge\, and enhancing problem-solving skills.\nOngoing tutor support online through Microsoft Teams\, where students can ask questions\, get help\, and download learning materials. These materials are also available digitally via ITPT Moodle.\n\nOur Edinburgh centre is at the following location:  \nIT Professional Training (ITPT)\n21 Calder Road\nEdinburgh\,\nEH11 3PF \nEnrolment Process:\nif you wish to join\, we can send you the admission form and further information via email. You can request this by emailing info@compassionate-sinoussi.185-249-75-142.plesk.page. \nThe student that wishes to enrol on one of these tuitions may also have to complete the Aptitude Form. We can send you further information via email. \nContact Us: \nFor more information please do contact us; \nEdinburgh Phone: 0131 552 5558\nGlasgow Phone: 07466166583\nEmail: info@compassionate-sinoussi.185-249-75-142.plesk.page\nWebsite:  https://compassionate-sinoussi.185-249-75-142.plesk.page/ \nContact us via website:  https://compassionate-sinoussi.185-249-75-142.plesk.page/contact-us/ \nTo Book an Appointment with Course Advisors: \nTo Book course registration or for further information about the course or its funding\, please follow the below link;\nhttps://tinyurl.com/ITPT-Appointment
URL:https://compassionate-sinoussi.185-249-75-142.plesk.page/event/higher-admin-it-tuition-programmes-sqa-edinburgh/
END:VEVENT
END:VCALENDAR