BEGIN:VCALENDAR
VERSION:2.0
PRODID:-//ITPT - ECPv6.8.3//NONSGML v1.0//EN
CALSCALE:GREGORIAN
METHOD:PUBLISH
X-ORIGINAL-URL:https://compassionate-sinoussi.185-249-75-142.plesk.page
X-WR-CALDESC:Events for ITPT
REFRESH-INTERVAL;VALUE=DURATION:PT1H
X-Robots-Tag:noindex
X-PUBLISHED-TTL:PT1H
BEGIN:VTIMEZONE
TZID:Europe/London
BEGIN:DAYLIGHT
TZOFFSETFROM:+0000
TZOFFSETTO:+0100
TZNAME:BST
DTSTART:20260329T010000
END:DAYLIGHT
BEGIN:STANDARD
TZOFFSETFROM:+0100
TZOFFSETTO:+0000
TZNAME:GMT
DTSTART:20261025T010000
END:STANDARD
END:VTIMEZONE
BEGIN:VEVENT
DTSTART;TZID=Europe/London:20260627T090000
DTEND;TZID=Europe/London:20260627T130000
DTSTAMP:20260423T184251
CREATED:20250403T063508Z
LAST-MODIFIED:20260325T165348Z
UID:10082-1782550800-1782565200@compassionate-sinoussi.185-249-75-142.plesk.page
SUMMARY:CompTIA A+ Course @ Edinburgh (Face to Face Classroom\, virtual learning available)
DESCRIPTION:Course Introduction: \nThe CompTIA A+ certificate is widely recognised and prepares the individual to enter the market as PC Technician. The CompTIA A+ certification is the industry standard for validating vendor-neutral skills expected for an entry level computer technician and will open the door for an exciting career in computer technology. \nThis course is also known as Gateway to IT world. \nThe CompTIA A+ certification ensures that the successful candidate has the important knowledge and skills necessary which covers the fundamentals of computer technology\, installation and configuration of PCs\, laptops and related hardware\, networking\, and the skills required to install and configure PC operating systems\, as well as configuring common features for mobile operating systems Android\, Linux and Apple iOS. \nPrerequisite: Not required\, just ease of using PC. \nSQA Framework: The CompTIA A + program also offers a number of shorter curricula which are related to SQA standalone HN Units. These are also assessed by means of restricted response questions and practical labs and so can give credit transfer to complete units. Learner can earn up to 48 credits upon passing all exams successfully. \nFurther information: \nCompTIA A+ \n \nMode of Learning:\nYou have the option of undertaking this course via following learning modes: \n\nFace to Face Classroom based Learning: You will attend the class each week on the day and time mentioned above. Tutor-led course. Students can attend at our Edinburgh centre or as a virtual learner from home. The instructor records each lesson for students too.\nVirtual/Online Learning: Live traditional face to face class will broadcast to all virtual learners each week on a specified time.\nBlended Learning: Mixture of Face to face and Virtual learning (must inform when joining the course).\neLearning I also available for this course\n\nInstructions on How to apply for the course? \nTo secure your spot in the desired course\, it’s essential to fill out the ITPT Course Admission form. Please ensure that you complete the general ITPT admission form\, indicating your preferred learning mode\, whether it’s Face to Face\, Blended\, or Virtual. The ITPT Course Admission form can be conveniently filled out electronically and returned via email. \n1st Step: Please fill the ITPT admission – application form. \n2nd Step: and then submit the course funding application directly to SAAS (details are below) \, please see under “How to apply for course funding heading” for more details\, it’s easy and simple way to submit digitally\, if any problem let us know. \nWe can send you the admission form and further information via email.  \nIn addition to the funding application student must fill ITPT course admission application form so we can reserve the place while their SAAS funding application is in process. Any student who do not inform us then their place in the course will not be guaranteed as we have minimum places to offer to SAAS funded students/learners. \nStudents intending to use SAAS Part Time Fee Grant to fund their studies should apply well prior to the course starting dates. In some cases we allow students to enrol while their funding is in process\, if the course date is near or gone past but they have to provide the proof that their funding has been applied to SAAS PTFG and is in under process. \nHow to apply for the Course Funding from Student Awards Agency for Scotland (SAAS) PTFG: \nSAAS Part Time full funding is available for this course and the course training will be totally free for eligible candidates only. SAAS\nPart Time full funding is available for this course and the training will be totally free for eligible candidates only. This is a grant not a loan and the funding covers the full cost of our designated courses including the SQA relevant exams. \n(Funding application applying from August to 30th March) \nPlease visit the https://www.saas.gov.uk/part-time/undergraduate-funding to apply for the course funding; \n(Funding application applying from March 31st to July) \nLearners intending to apply for courses in the 2023-2024 session from March 31st onward are required to complete and submit a paper application form directly to SAAS PTFG.\nPlease contact SAAS PTFG by following methods to receive the paper funding application form\, (Contact us) \n\nPaper application form can either be requested through their web chat (open 9:00am to 4:00pm\, Monday\, Wednesday and Friday) OR\nBy telephone (0300 300 3137 – SAAS Part Time Fee Grant (PTFG).\n\nOnce the paper application form is completed\, please return it using the following email address:  SAAS_PTFG@gov.scot\nPlease note that the paper funding application form does not need to be validated by us anymore. \nWhat ITPT do to help students for SAAS funding application forms? \nWe advise & provide information regarding their SAAS funding application\, how and what information to fill through SAAS PTFG online portal so don’t worry just make an appointment and pop along\, our dedicated course consultants will be happy to assist you accordingly. \nSelf-Funding: \nIf you do not meet the funding criteria mentioned above\, you also have the option to self-fund this course. For additional information\, please don’t hesitate to contact us. \nGroup Learner Discounts: \nThere is further discounts if there a group of students or delegates from the company wants to attend the course. \nContact Us: \nFor more information please do contact us:\nEdinburgh Phone: 0131 552 5558\nEmail: info@compassionate-sinoussi.185-249-75-142.plesk.page\nwebsite: https://compassionate-sinoussi.185-249-75-142.plesk.page/\nContact us via website: https://compassionate-sinoussi.185-249-75-142.plesk.page/contact-us/ \nTo Book an Appointment with Course Advisors: \nTo Book course registration or for further information about the course or its funding\, please follow the below link;\nhttps://tinyurl.com/ITPT-Appointment
URL:https://compassionate-sinoussi.185-249-75-142.plesk.page/event/comptia-a-course-edinburgh-face-to-face-classroom-virtual-learning-available/
LOCATION:21 Calder Road\, Edinburgh EH11 3PF
END:VEVENT
END:VCALENDAR