BEGIN:VCALENDAR
VERSION:2.0
PRODID:-//ITPT - ECPv6.8.3//NONSGML v1.0//EN
CALSCALE:GREGORIAN
METHOD:PUBLISH
X-WR-CALNAME:ITPT
X-ORIGINAL-URL:https://compassionate-sinoussi.185-249-75-142.plesk.page
X-WR-CALDESC:Events for ITPT
REFRESH-INTERVAL;VALUE=DURATION:PT1H
X-Robots-Tag:noindex
X-PUBLISHED-TTL:PT1H
BEGIN:VTIMEZONE
TZID:Europe/London
BEGIN:DAYLIGHT
TZOFFSETFROM:+0000
TZOFFSETTO:+0100
TZNAME:BST
DTSTART:20260329T010000
END:DAYLIGHT
BEGIN:STANDARD
TZOFFSETFROM:+0100
TZOFFSETTO:+0000
TZNAME:GMT
DTSTART:20261025T010000
END:STANDARD
END:VTIMEZONE
BEGIN:VEVENT
DTSTART;TZID=Europe/London:20260606T133000
DTEND;TZID=Europe/London:20260606T141000
DTSTAMP:20260423T184003
CREATED:20260407T113036Z
LAST-MODIFIED:20260420T170456Z
UID:10741-1780752600-1780755000@compassionate-sinoussi.185-249-75-142.plesk.page
SUMMARY:NAT 5 Computing Science Tuition @ Edinburgh
DESCRIPTION:NAT 5 Computing Science \nIntroduction:  \nITPT Edinburgh are excited to announce our new timetable for National 5 Computing Science Tuition at our Edinburgh centre and also via our virtual learning platform. These lessons are designed for students studying Qualifications Scotland National 5 Computing Science. Each class offers a deeper and more effective learning experience than traditional school lessons\, helping students to fill any knowledge gaps they may have due to school absences. \nUpcoming Time Table (you must select from the following: \nOption 1: \n\n\n\n\nOne to Five* (Weekly Class – Face to Face)\n\n\nStarting Date\nDay\nTime\nDuration\nSubject\nClass Level\nFees\n\n\n06 Jun 2026\nSaturday\n01:30 to 02:10\n40 Minutes Session\nComputing Science\nNAT 5\n£100 (Monthly)\n\n\n* Not more than 5 students per class\n\n\n\n\nOption 2: \n\n\n\n\nOne to Three – (Weekly Remote/Online Class)\n\n\nStarting From\nDay & Time\nDuration\nSubject\nClass Level\nFees\n\n\nNo Specific Dates\, can be started at anytime\nPlease contact us either via email for the slot’s availability.\n1 Hour  Session\nComputing Science\nNAT 5\n£150 (Monthly)\n\n\n\n\n  \nTest your knowledge: \nWe will evaluate students existing knowledge with the help of an aptitude test to find out your current status of learning progression. \nWho is this course for? \nThis course is designed for learners who are considering to appear for the NAT 5 Computing Science Qualifications Scotland exam. It provides opportunities to enhance skills in planning and organising\, working independently and within teams\, critical thinking and decision making\, research\, communication\, and self and peer evaluation\, in a range of contexts. \nWhat topics will be covered? \nThis course is designed for learners who are considering to appear for the NAT 5 Computing Science Qualifications Scotland exam. It provides opportunities to enhance skills in planning and organising\, working independently and within teams\, critical thinking and decision making\, research\, communication\, and self and peer evaluation\, in a range of contexts. \nThe course has four areas of study which are covered in depth\, these are as follows: \n\nSoftware design and development\nComputer systems\nDatabase design and development\nWeb design and development\n\nNAT 5 Qualifications Scotland latest Syllabus will be followed throughout the session. \nRecommended Exams: \nNAT 5 Computing Science Qualifications Scotland exam: \nTutor Experience: \nWe are an accredited private institution\, authorized by the Qualifications Scotland\, specialising in the provision of Qualifications Scotland qualifications at SCQF levels 4 to 9. This experience places our tutors in good stead to know the key areas\, skills and question types for the prelims. We prepare students using past papers\, focussing on not only the instructor-led theoretical knowledge but also the supervised practical experience. Our courses incorporate intensive and extensive hands-on exercises to boost the theoretical knowledge of our students with practical expertise. \n\nThe tuition is taught by the Qualifications Scotland teachers who have wealth of experience in teaching the Qualifications Scotland curriculum. They have detailed\, expert knowledge about the syllabus and requirements of the exam board.\nStudents will be given ITPT Moodle account individually where they can easily access all the course lessons and resources.\nStudents will be taught specially about time-management skills.\nOne-to-one attention in a supportive and enjoyable environment\, which means all students’ questions will be answered in more depth.\nStudents will be provided empathetic and fun environment which means they will be motivated to learn.\n\nOur Edinburgh centre is at the following location:  \nIT Professional Training (ITPT)\n21 Calder Road\nEdinburgh\,\nEH11 3PF \nEnrolment Process:\nif you wish to join\, we can send you the admission form and further information via email. You can request this by emailing info@compassionate-sinoussi.185-249-75-142.plesk.page. \nThe student that wishes to enrol on one of these tuitions may also have to complete the Nat 5 Aptitude Form. We can send you further information via email. \nContact Us: \nFor more information please do contact us;\n\nEdinburgh Phone: 0131 552 5558\nGlasgow Phone: 07466166583\nEmail: info@compassionate-sinoussi.185-249-75-142.plesk.page\nWebsite:  https://compassionate-sinoussi.185-249-75-142.plesk.page/ \nContact us via website:  https://compassionate-sinoussi.185-249-75-142.plesk.page/contact-us/ \nTo Book an Appointment with Course Advisors: \nTo Book course registration or for further information about the course or its funding\, please follow the below link;\nhttps://tinyurl.com/ITPT-Appointment
URL:https://compassionate-sinoussi.185-249-75-142.plesk.page/event/nat-5-computing-science-tuition-edinburgh/
END:VEVENT
BEGIN:VEVENT
DTSTART;TZID=Europe/London:20260606T142000
DTEND;TZID=Europe/London:20260606T152000
DTSTAMP:20260423T184003
CREATED:20260407T114130Z
LAST-MODIFIED:20260416T102840Z
UID:10745-1780755600-1780759200@compassionate-sinoussi.185-249-75-142.plesk.page
SUMMARY:NAT 5 Mathematics Tuition Programmes @ Edinburgh
DESCRIPTION:Mathematics NAT 5 Tuition Programmes (Qualifications Scotland)\nITPT are excited to announced our new timetable for National 5 Mathematics Tuition at our Edinburgh centre and also via our virtual learning platform \nWe offer high-quality\, tutor-led mathematics tuition designed to support students studying Qualifications Scotland National 5 Mathematics. Our programmes are carefully structured to provide focused and effective learning within a supportive environment\, delivered either in person or online to suit individual learner needs. \nhttps://compassionate-sinoussi.185-249-75-142.plesk.page/courses/nat-5-mathematics/ \nNAT 5 Mathematics \n\nUpcoming Time Table (must select from following options: \nOption 1: \n\n\n\n\nOne to Five* (Weekly Class – Face to Face)\n\n\nStarting Date\nDay\nTime\nDuration\nSubject\nClass Level\nFees\n\n\n06 Jun 2026\nSaturday\n02:20 to 03:20\n1 Hour Session\nMathematics\nNAT 5\n£100 (Monthly)\n\n\n* Not more than 5 students per class\n\n\n\n\nOption 2: \n\n\n\n\nOne to Three – (Weekly Remote/Online Class)\n\n\nStarting From\nDay & Time\nDuration\nSubject\nClass Level\nFees\n\n\nNo Specific Dates\, can be started at anytime\nPlease contact us either via email for the slot’s availability.\n1 Hour  Session\nMathematics\nNAT 5\n£150 (Monthly)\n\n\n\n\n\nTest your knowledge: \nWe will evaluate students existing knowledge with the help of an aptitude test to find out your current status of learning progression. \nWho is this course for? \nThis course is designed for learners who are considering to appear for the NAT 5 Mathematics Qualifications Scotland exam. It provides opportunities to enhance skills in planning and organising\, working independently and within teams\, critical thinking and decision making\, research\, communication\, and self and peer evaluation\, in a range of contexts. \nWhat topics will be covered? \nThe course covers the following topics: \n\nAlgebraic Skills:Working with algebra\, including expanding brackets\, factorising expressions\, completing the square\, simplifying algebraic fractions\, solving linear and quadratic equations and inequalities\, rearranging formulas\, finding the equation of a straight line\, and solving simultaneous equations.\nGeometry & Trigonometry:Understanding shapes and measurements\, including Pythagoras’ theorem\, properties of circles (such as arcs\, sectors and tangents)\, similar shapes\, vectors\, and basic trigonometry (SOH CAH TOA\, sine and cosine rules)\, as well as calculating volume.\nNumeracy & Statistics:Using numbers and data\, including percentages\, fractions\, reverse percentages\, compound interest\, increase and decrease (appreciation and depreciation)\, rounding using significant figures\, and handling data such as drawing and reading graphs\, finding the mean\, median and mode\, interquartile range\, and drawing a line of best fit.\nReasoning Skills:Reasoning skills involve thinking logically\, explaining methods clearly\, and applying mathematical knowledge to solve problems. Students are expected to interpret information\, justify their answers\, show clear working\, and check that their solutions make sense. These skills help learners tackle unfamiliar and real-life problems with confidence and accuracy.\n\nThe tuition covers the entire Qualifications Scotland National 5 Mathematics course specification\, ensuring that all required topics are fully taught and reinforced in line with Qualifications Scotland standards. Students are supported across all key areas of the course to help them build understanding\, confidence\, and exam readiness. \nRecommended Exams: \nNAT 5 Mathematics \nHow We Teach \nOur fully qualified Qualifications Scotland Assessors and Tutors provide high-quality lessons tailored to the set content for each session\, helping every student achieve their full potential. We follow the latest Qualifications Scotland guidelines and update our lessons as needed. \nWe use both Qualifications Scotland past papers and our own exam papers. Practicing with these past papers helps you identify the topics you’re strong in and those you need to work on. This way\, you can track your revision progress and gain confidence in what you know. \nHere’s what we focus on: \n\nComprehensive teaching and in-depth revision of all key areas of Qualifications Scotland National 5 Mathematics\nPractice with exam-standard questions to develop confidence and accuracy\nGuided review of Qualifications Scotland marking guidelines to help students understand how marks are awarded\nDevelopment of effective exam techniques\, consolidation of knowledge\, and enhancement of problem-solving and reasoning skills\nOngoing tutor support via Microsoft Teams\, allowing \n\n  \nOur Edinburgh centre is at the following location:  \nIT Professional Training (ITPT)\n21 Calder Road\nEdinburgh\,\nEH11 3PF \nEnrolment Process:\nif you wish to join\, we can send you the admission form and further information via email. You can request this by emailing info@compassionate-sinoussi.185-249-75-142.plesk.page. \nThe student that wishes to enrol on one of these tuitions may also have to complete the Nat 5 Aptitude Form. We can send you further information via email. \nContact Us: \nFor more information please do contact us;\nEdinburgh Phone: 0131 552 5558\nGlasgow Phone: 07466166583\nEmail: info@compassionate-sinoussi.185-249-75-142.plesk.page\nwebsite:  https://compassionate-sinoussi.185-249-75-142.plesk.page/ \nContact us via website:  https://compassionate-sinoussi.185-249-75-142.plesk.page/contact-us/ \nTo Book an Appointment with Course Advisors: \nTo Book course registration or for further information about the course or its funding\, please follow the below link;\nhttps://tinyurl.com/ITPT-Appointment
URL:https://compassionate-sinoussi.185-249-75-142.plesk.page/event/nat-5-mathematics-tuition-programmes-sqa-edinburgh/
END:VEVENT
BEGIN:VEVENT
DTSTART;TZID=Europe/London:20260606T162000
DTEND;TZID=Europe/London:20260606T172000
DTSTAMP:20260423T184003
CREATED:20260417T115247Z
LAST-MODIFIED:20260420T170405Z
UID:10799-1780762800-1780766400@compassionate-sinoussi.185-249-75-142.plesk.page
SUMMARY:Advanced Highers: Computing Science Tuition Programmes @ Edinburgh.
DESCRIPTION:Advanced Highers: Computing Science \n\nWeekly Group Sessions \n\n\nOur tutor-led group sessions are designed for students studying Advanced Higher Computing Science (Qualifications Scotland). These structured one-hour lessons are delivered in small groups (up to five students)\, either in-person at our Edinburgh centre or online. \n\n\nThese sessions provide a focused and engaging learning environment\, allowing students to explore complex concepts in greater depth than typically possible in school. They are particularly beneficial for reinforcing classroom learning\, addressing gaps in understanding\, and building exam confidence. \n\n\nOne-to-Three / Small Group – Virtual/Remote Sessions Tuition \n\n\nFor a more personalised experience\, we offer one-to-three and small group tuition\, available both in-person and remotely. \n\n\nThese 60-minute sessions are tailored to the individual learner\, allowing tutors to: \n\n\nAdapt lessons to specific strengths and weaknesses\nProvide targeted exam preparation\nSupport coursework and project development\nBuild confidence at the student’s own pace\n\n\n  \nThis format ensures maximum attention and a highly customised learning experience. \n\n\nUpcoming Time Table: \n\n\n\n\nOne to Five* (Weekly Class – Face to Face)\n\n\nStarting Date\nDay\nTime\nDuration\nSubject\nClass Level\nFees\n\n\n06 Jun 2026\nSaturday\n04:20 to 05:20\n60 Minutes Session\nComputing Science\nAdvanced Highers\n£100 (Monthly)\n\n\n* Not more than 5 students per class\n\n\n\n\n  \nOption 2: \n\n\n\n\nOne to Three – (Weekly Remote/Online Class)\n\n\nStarting From\nDay & Time\nDuration\nSubject\nClass Level\nFees\n\n\nNo Specific Dates\, can be started at anytime\nPlease contact us either via email for the slot’s availability.\n1 Hour  Session\nComputing Science\nAdvanced Highers\n£150 (Monthly)\n\n\n\n\n\n  \nInitial Knowledge Assessment \n\n\nAll students begin with a diagnostic aptitude test to assess their current level of understanding. This allows us to: \n\n\nIdentify strengths and areas for development\nCreate a personalised learning plan\nTrack progress over time\n\n\n  \nWho is this Course For? \n\n\nThis course is ideal for students preparing for the Advanced Higher Computing Science exam (Qualifications Scotland). \n\n\nIt is particularly suited for learners who want to: \n\n\nStrengthen independent learning skills\nDevelop advanced problem-solving abilities\nEnhance computational thinking\nImprove teamwork and communication\nGain confidence in tackling complex tasks and exam questions\n\n\n  \nCourse Content \n\n\nThe course aligns fully with the Qualifications Scotland Advanced Higher Computing Science syllabus and is structured around four core areas: \n\n\nSoftware Design and Development\n\n\nCandidates gain knowledge\, understanding\, and advanced practical problem-solving skills in software design and development using appropriate development environments. They build object-oriented programming and computational thinking skills by analysing\, designing\, implementing\, testing\, and evaluating solutions\, and by explaining how modular programs operate. Using their understanding of data types and programming constructs\, candidates develop efficient programs to solve complex problems. \n\n\nKey Topics: \n\n\nDevelopment Methodologies\nAnalysis & Problem Decomposition\nDesign Techniques\nImplementation:\nData Types & Structures\nComputational Constructs\nAlgorithm Specification\nTesting & Debugging\nEvaluation of Solutions\nPractice through Past Papers & Quizzes\n\n  \n\nDatabase Design and Development\n\n\nCandidates develop knowledge\, understanding\, and advanced practical problem-solving skills in database design and development through a variety of practical tasks. They use SQL to create\, manage\, and query relational databases. Candidates apply computational-thinking skills to analyse\, design\, implement\, test\, and evaluate database solutions using appropriate development tools. They also demonstrate interpretation skills when working with complex database features in both familiar and unfamiliar contexts. \n\n\nKey Topics: \n\n\nAnalysis of Requirements\nDatabase Design (including relational models)\nImplementation using SQL (minimum three linked tables)\nTesting and Validation\nEvaluation of Database Solutions\nPractice through Past Papers & Quizzes\n\n\nWeb Design and Development\n\n\nCandidates develop knowledge\, understanding\, and advanced practical problem-solving skills in web design and development through a range of practical and investigative tasks. They apply computational-thinking skills to analyse\, design\, implement\, test\, and evaluate solutions to web-based problems using development tools such as HTML\, Cascading Style Sheets (CSS)\, and PHP. Candidates also demonstrate interpretation skills when working with complex features in both familiar and unfamiliar contexts. \n\n\nKey Topics: \n\n\nAnalysis & Planning\nWeb Design Principles\nImplementation:\nHTML\nCSS\nJavaScript\nTesting & Debugging\nEvaluation of Web Solutions\nPractice through Past Papers & Quizzes\n\n\nIntegrated Learning Methodology: \n\n\nOur delivery model unifies Software Design & Development\, Database Design & Development\, and Web Design & Development into a single\, powerful learning experience. \n\n\nInstead of teaching these disciplines in isolation\, learners engage in a fully integrated\, project-driven approach where all skills are applied simultaneously to build complete\, real-world systems. \n\n\nAssessment & Exam Preparation \n\n\nRegular progress tracking and feedback\nExam-style questions and timed practice\nFull past paper practice with tutor guidance\nFocus on exam techniques and marking criteria\n\n\n  \nRecommended Examination \n\n\nQualifications Scotland – Advanced Higher Computing Science \n\n\nOur Edinburgh centre is at the following location:  \nIT Professional Training (ITPT)\n21 Calder Road\nEdinburgh\,\nEH11 3PF \nEnrolment Process:\nif you wish to join\, we can send you the admission form and further information via email. You can request this by emailing info@compassionate-sinoussi.185-249-75-142.plesk.page. \nThe student that wishes to enrol on one of these tuitions may also have to complete the aptitude Form. We can send you further information via email. \nContact Us: \nFor more information please do contact us; \nEdinburgh Phone: 0131 552 5558\nGlasgow Phone: 07466166583\nEmail: info@compassionate-sinoussi.185-249-75-142.plesk.page\nWebsite: https://compassionate-sinoussi.185-249-75-142.plesk.page/ \nContact us via website: https://compassionate-sinoussi.185-249-75-142.plesk.page/contact-us/ \nTo Book an Appointment with Course Advisors: \nTo Book course registration or for further information about the course or its funding\, please follow the below link;\nhttps://tinyurl.com/ITPT-Appointment
URL:https://compassionate-sinoussi.185-249-75-142.plesk.page/event/advanced-highers-computing-science-tuition-programmes-sqa-edinburgh/
END:VEVENT
END:VCALENDAR