BEGIN:VCALENDAR
VERSION:2.0
PRODID:-//ITPT - ECPv6.8.3//NONSGML v1.0//EN
CALSCALE:GREGORIAN
METHOD:PUBLISH
X-WR-CALNAME:ITPT
X-ORIGINAL-URL:https://compassionate-sinoussi.185-249-75-142.plesk.page
X-WR-CALDESC:Events for ITPT
REFRESH-INTERVAL;VALUE=DURATION:PT1H
X-Robots-Tag:noindex
X-PUBLISHED-TTL:PT1H
BEGIN:VTIMEZONE
TZID:Europe/London
BEGIN:DAYLIGHT
TZOFFSETFROM:+0000
TZOFFSETTO:+0100
TZNAME:BST
DTSTART:20260329T010000
END:DAYLIGHT
BEGIN:STANDARD
TZOFFSETFROM:+0100
TZOFFSETTO:+0000
TZNAME:GMT
DTSTART:20261025T010000
END:STANDARD
END:VTIMEZONE
BEGIN:VEVENT
DTSTART;TZID=Europe/London:20260530T140000
DTEND;TZID=Europe/London:20260530T170000
DTSTAMP:20260423T170723
CREATED:20241218T120135Z
LAST-MODIFIED:20260402T101347Z
UID:9718-1780149600-1780160400@compassionate-sinoussi.185-249-75-142.plesk.page
SUMMARY:CCNA Implementing & Administering Cisco Solutions @ Edinburgh (Face to Face\, Blended\, Virtual Learning available)
DESCRIPTION:Latest Version will be delivered. \nCourse Introduction \nCisco Certified Network Associate (CCNA) is a certification program for today’s associate-level job roles in IT technologies. It now includes security and automation and programmability. The program has one certification that covers a broad range of fundamentals for IT careers\, with one exam and one training course to help you prepare. Cisco has introduced the new training program for CCNA certification program which has all the latest and necessary changes needed to cover all the latest networking technologies and methodologies. Cisco has also introduced some new set of skills like software development skills\, more advanced knowledge on the matter and new job roles as well. This new update has made the CCNA certification program to move towards perfectness and successful IT career. \nPrerequisites \nNo Prerequisite required \nCourse Objectives \nCCNA training course and exam provides the foundation which can take your career into any trend. CCNA certification covers a breadth of topics\, including: \n\nNetwork fundamentals\nNetwork access\nIP connectivity\nIP services\nSecurity fundamentals\nAutomation and programmability\n\nFor detailed exam contents\, please send your request via email… \nExams & Recommended Training \nOne of the most important and greeted updates was regards to examination that is individuals don’t need to give two exams anymore. They only need to pass one exam to earn their reputed CCNA certification. Tutor will also take a mock exam at the end of the course to evaluate your understanding for the vendor’s exam. \n\n\n\n\nRequired Exam(s)\nRecommended Training\n\n\n200-301 CCNA\nImplementing & Administering Cisco Solutions\n\n\n\n\n\nSQA Framework: \nThe Cisco program also offers a number of shorter curricula which are related to SQA HN Units and is known as Professional Development Award in Networking Technology (PDA Network Technology) which can be covered with little more study when attending this course. These are also assessed by means of restricted response questions and practical labs and so can give credit transfer to complete units. The total credits of 64 can be achieved on passing SQA exams successfully at no additional cost. \nHands on Experience \nHands on experience on live Cisco Routers\, Switches\, and Security Devices is provided (Face to Face learning) and stimulation software’s for the virtual leaners. \nModes of Learning: \nYou have the option of undertaking this course via following learning modes: \n\nFace to Face Classroom based Learning: You will attend the class each week on the day and time mentioned above.\nVirtual Learning: Live traditional face to face class will broadcast to all virtual learners each week on a specified time.\nBlended Learning: Mixture of Face to face and Virtual learning (must inform when joining the course).\neLearning is currently available for this course\n\nFor further information on the modes of learning\, please read the information below. We can send you a detailed document that has further information on each. \nInstructions on How to apply for the course? \nTo secure your spot in the desired course\, it’s essential to fill out the ITPT Course Admission form. Please ensure that you complete the general ITPT admission form\, indicating your preferred learning mode\, whether it’s Face to Face\, Blended\, or Virtual. The ITPT Course Admission form can be conveniently filled out electronically and returned via email. \n1st Step: Please fill the ITPT admission – application form. \n2nd Step: and then submit the course funding application directly to SAAS (details are below) \, please see under “How to apply for course funding heading” for more details\, it’s easy and simple way to submit digitally\, if any problem let us know. \nWe can send you the admission form and further information via email. \nIn addition to the funding application student must fill ITPT course admission application form so we can reserve the place while their SAAS funding application is in process. Any student who do not inform us then their place in the course will not be guaranteed as we have minimum places to offer to SAAS funded students/learners. \nStudents intending to use SAAS Part Time Fee Grant to fund their studies should apply well prior to the course starting dates. In some cases we allow students to enrol while their funding is in process\, if the course date is near or gone past but they have to provide the proof that their funding has been applied to SAAS PTFG and is in under process. \nHow to apply for the Course Funding from Student Awards Agency for Scotland (SAAS) PTFG: \nSAAS Part Time full funding is available for this course and the course training will be totally free for eligible candidates only. SAAS Part Time full funding is available for this course and the training will be totally free for eligible candidates only. This is a grant not a loan and the funding covers the full cost of our designated courses including the SQA relevant exams. \n(Funding application applying from August to 30th March) \nPlease visit the https://www.saas.gov.uk/part-time/undergraduate-funding to apply for the course funding; \n(Funding application applying from March 31st to July) \nLearners intending to apply for courses in the 2023-2024 session from March 31st onward are required to complete and submit a paper application form directly to SAAS PTFG.\nPlease contact SAAS PTFG by following methods to receive the paper funding application form\, (Contact us) \n\nPaper application form can either be requested through their web chat (open 9:00am to 4:00pm\, Monday\, Wednesday and Friday) OR\nBy telephone (0300 300 3137 – SAAS Part Time Fee Grant (PTFG).\n\nOnce the paper application form is completed\, please return it using the following email address:  SAAS_PTFG@gov.scot\nPlease note that the paper funding application form does not need to be validated by us anymore. \nWhat ITPT do to help students for SAAS funding application forms? \nWe offer guidance and support for your SAAS funding application\, including instructions on how to complete the necessary information through the SAAS PTFG online portal. Please do not worry; simply schedule an appointment\, and our dedicated course consultants will be pleased to assist you. \nSelf-Funding: \nIf you do not meet the funding criteria mentioned above\, you also have the option to self-fund this course. For additional information\, please don’t hesitate to contact us. \nGroup Learner Discounts: \nThere is further discounts if there a group of students or delegates from the company wants to attend the course. \nContact Us: \nFor more information please do contact us:\nEdinburgh Phone: 0131 552 5558 – 0131 552 5800\nGlasgow Phone: 0141 429 2922\nEmail: info@compassionate-sinoussi.185-249-75-142.plesk.page\nwebsite: https://compassionate-sinoussi.185-249-75-142.plesk.page/\nContact us via website: https://compassionate-sinoussi.185-249-75-142.plesk.page/contact-us/ \nTo Book an Appointment with Course Advisors: \nTo Book course registration or for further information about the course or its funding\, please follow the below link;\nhttps://tinyurl.com/ITPT-Appointment
URL:https://compassionate-sinoussi.185-249-75-142.plesk.page/event/ccna-implementing-administering-cisco-solutions-edinburgh-face-to-face-blended-virtual-learning-available-2/
LOCATION:21 Calder Road\, Edinburgh\, EH11 3PF
END:VEVENT
END:VCALENDAR